Package: interactiveDisplay Version: 1.45.1 Command: /Library/Frameworks/R.framework/Resources/bin/R CMD INSTALL interactiveDisplay StartedAt: 2025-02-09 15:46:01 -0500 (Sun, 09 Feb 2025) EndedAt: 2025-02-09 15:46:31 -0500 (Sun, 09 Feb 2025) EllapsedTime: 29.3 seconds RetCode: 0 Status: OK