Package: interactiveDisplay Version: 1.45.1 Command: /home/biocbuild/bbs-3.21-bioc/R/bin/R CMD check --install=check:interactiveDisplay.install-out.txt --library=/home/biocbuild/bbs-3.21-bioc/R/site-library --timings interactiveDisplay_1.45.1.tar.gz StartedAt: 2025-02-05 23:25:38 -0500 (Wed, 05 Feb 2025) EndedAt: 2025-02-05 23:29:35 -0500 (Wed, 05 Feb 2025) EllapsedTime: 237.3 seconds RetCode: 0 Status: OK CheckDir: interactiveDisplay.Rcheck Warnings: 0