Package: interactiveDisplay Version: 1.45.1 Command: rm -rf interactiveDisplay.buildbin-libdir && mkdir interactiveDisplay.buildbin-libdir && E:\biocbuild\bbs-3.21-bioc\R\bin\R.exe CMD INSTALL --build --library=interactiveDisplay.buildbin-libdir interactiveDisplay_1.45.1.tar.gz StartedAt: 2025-02-10 07:58:34 -0500 (Mon, 10 Feb 2025) EndedAt: 2025-02-10 08:00:23 -0500 (Mon, 10 Feb 2025) EllapsedTime: 108.9 seconds RetCode: 0 Status: OK PackageFile: interactiveDisplay_1.45.1.zip PackageFileSize: 2.44 MiB