Package: interactiveDisplay Version: 1.45.1 Command: chmod a+r interactiveDisplay -R && E:\biocbuild\bbs-3.21-bioc\R\bin\R.exe CMD build --keep-empty-dirs --no-resave-data interactiveDisplay StartedAt: 2025-02-03 19:37:48 -0500 (Mon, 03 Feb 2025) EndedAt: 2025-02-03 19:38:57 -0500 (Mon, 03 Feb 2025) EllapsedTime: 68.9 seconds RetCode: 0 Status: OK PackageFile: interactiveDisplay_1.45.1.tar.gz PackageFileSize: 4.52 MiB