Package: interactiveDisplayBase Version: 1.45.0 Command: rm -rf interactiveDisplayBase.buildbin-libdir && mkdir interactiveDisplayBase.buildbin-libdir && /Users/biocbuild/BBS/utils/build-universal.sh interactiveDisplayBase_1.45.0.tar.gz /Library/Frameworks/R.framework/Resources/bin/R interactiveDisplayBase.buildbin-libdir StartedAt: 2025-02-09 22:18:12 -0500 (Sun, 09 Feb 2025) EndedAt: 2025-02-09 22:18:14 -0500 (Sun, 09 Feb 2025) EllapsedTime: 2.0 seconds RetCode: 0 Status: OK PackageFile: interactiveDisplayBase_1.45.0.tgz PackageFileSize: 28.22 KiB