Package: interactiveDisplayBase Version: 1.45.0 Command: /home/biocbuild/R/R/bin/R CMD INSTALL interactiveDisplayBase StartedAt: 2025-01-29 20:37:24 -0000 (Wed, 29 Jan 2025) EndedAt: 2025-01-29 20:37:28 -0000 (Wed, 29 Jan 2025) EllapsedTime: 4.1 seconds RetCode: 0 Status: OK