Package: interactiveDisplayBase Version: 1.45.0 Command: rm -rf interactiveDisplayBase.buildbin-libdir && mkdir interactiveDisplayBase.buildbin-libdir && /Users/biocbuild/BBS/utils/build-universal.sh interactiveDisplayBase_1.45.0.tar.gz /Library/Frameworks/R.framework/Resources/bin/R interactiveDisplayBase.buildbin-libdir StartedAt: 2025-02-05 00:45:09 -0500 (Wed, 05 Feb 2025) EndedAt: 2025-02-05 00:45:17 -0500 (Wed, 05 Feb 2025) EllapsedTime: 8.1 seconds RetCode: 0 Status: OK PackageFile: interactiveDisplayBase_1.45.0.tgz PackageFileSize: 27.97 KiB