Package: interactiveDisplayBase Version: 1.45.0 Command: /Library/Frameworks/R.framework/Resources/bin/R CMD check --install=check:interactiveDisplayBase.install-out.txt --library=/Library/Frameworks/R.framework/Resources/library --no-vignettes --timings interactiveDisplayBase_1.45.0.tar.gz StartedAt: 2025-02-09 21:25:16 -0500 (Sun, 09 Feb 2025) EndedAt: 2025-02-09 21:25:55 -0500 (Sun, 09 Feb 2025) EllapsedTime: 39.1 seconds RetCode: 0 Status: OK CheckDir: interactiveDisplayBase.Rcheck Warnings: 0