Package: interactiveDisplayBase Version: 1.45.0 Command: /home/biocbuild/bbs-3.21-bioc/R/bin/R CMD check --install=check:interactiveDisplayBase.install-out.txt --library=/home/biocbuild/bbs-3.21-bioc/R/site-library --timings interactiveDisplayBase_1.45.0.tar.gz StartedAt: 2025-02-09 23:22:49 -0500 (Sun, 09 Feb 2025) EndedAt: 2025-02-09 23:23:17 -0500 (Sun, 09 Feb 2025) EllapsedTime: 28.0 seconds RetCode: 0 Status: OK CheckDir: interactiveDisplayBase.Rcheck Warnings: 0