Package: interactiveDisplayBase Version: 1.45.0 Command: chmod a+r interactiveDisplayBase -R && E:\biocbuild\bbs-3.21-bioc\R\bin\R.exe CMD build --keep-empty-dirs --no-resave-data interactiveDisplayBase StartedAt: 2025-02-04 19:28:06 -0500 (Tue, 04 Feb 2025) EndedAt: 2025-02-04 19:28:16 -0500 (Tue, 04 Feb 2025) EllapsedTime: 10.0 seconds RetCode: 0 Status: OK PackageFile: interactiveDisplayBase_1.45.0.tar.gz PackageFileSize: 7.521 KiB