Package: interactiveDisplayBase Version: 1.45.0 Command: E:\biocbuild\bbs-3.21-bioc\R\bin\R.exe CMD INSTALL interactiveDisplayBase StartedAt: 2025-02-09 17:00:04 -0500 (Sun, 09 Feb 2025) EndedAt: 2025-02-09 17:00:13 -0500 (Sun, 09 Feb 2025) EllapsedTime: 9.1 seconds RetCode: 0 Status: OK