Package: isomiRs Version: 1.35.0 Command: rm -rf isomiRs.buildbin-libdir && mkdir isomiRs.buildbin-libdir && /Users/biocbuild/BBS/utils/build-universal.sh isomiRs_1.35.0.tar.gz /Library/Frameworks/R.framework/Resources/bin/R isomiRs.buildbin-libdir StartedAt: 2025-02-05 00:45:47 -0500 (Wed, 05 Feb 2025) EndedAt: 2025-02-05 00:46:53 -0500 (Wed, 05 Feb 2025) EllapsedTime: 66.2 seconds RetCode: 0 Status: OK PackageFile: isomiRs_1.35.0.tgz PackageFileSize: 2.486 MiB