Package: isomiRs Version: 1.35.0 Command: /Library/Frameworks/R.framework/Resources/bin/R CMD build --keep-empty-dirs --no-resave-data isomiRs StartedAt: 2025-02-04 17:09:12 -0500 (Tue, 04 Feb 2025) EndedAt: 2025-02-04 17:10:47 -0500 (Tue, 04 Feb 2025) EllapsedTime: 95.0 seconds RetCode: 0 Status: OK PackageFile: isomiRs_1.35.0.tar.gz PackageFileSize: 4.519 MiB