Package: isomiRs Version: 1.35.0 Command: /Library/Frameworks/R.framework/Resources/bin/R CMD INSTALL isomiRs StartedAt: 2025-02-04 15:20:26 -0500 (Tue, 04 Feb 2025) EndedAt: 2025-02-04 15:21:26 -0500 (Tue, 04 Feb 2025) EllapsedTime: 59.6 seconds RetCode: 0 Status: OK