Package: isomiRs Version: 1.35.0 Command: /home/biocbuild/bbs-3.21-bioc/R/bin/R CMD build --keep-empty-dirs --no-resave-data isomiRs StartedAt: 2025-02-12 17:45:41 -0500 (Wed, 12 Feb 2025) EndedAt: 2025-02-12 17:47:12 -0500 (Wed, 12 Feb 2025) EllapsedTime: 90.1 seconds RetCode: 0 Status: OK PackageFile: isomiRs_1.35.0.tar.gz PackageFileSize: 4.4 MiB