Package: isomiRs Version: 1.35.0 Command: E:\biocbuild\bbs-3.21-bioc\R\bin\R.exe CMD INSTALL isomiRs StartedAt: 2025-02-04 15:49:59 -0500 (Tue, 04 Feb 2025) EndedAt: 2025-02-04 15:51:00 -0500 (Tue, 04 Feb 2025) EllapsedTime: 60.6 seconds RetCode: 0 Status: OK