Package: iterativeBMA Version: 1.65.0 Command: rm -rf iterativeBMA.buildbin-libdir && mkdir iterativeBMA.buildbin-libdir && /Users/biocbuild/BBS/utils/build-universal.sh iterativeBMA_1.65.0.tar.gz /Library/Frameworks/R.framework/Resources/bin/R iterativeBMA.buildbin-libdir StartedAt: 2025-02-09 22:18:46 -0500 (Sun, 09 Feb 2025) EndedAt: 2025-02-09 22:18:51 -0500 (Sun, 09 Feb 2025) EllapsedTime: 4.1 seconds RetCode: 0 Status: OK PackageFile: iterativeBMA_1.65.0.tgz PackageFileSize: 215.8 KiB