Package: iterativeBMA Version: 1.65.0 Command: /Library/Frameworks/R.framework/Resources/bin/R CMD INSTALL iterativeBMA StartedAt: 2025-02-09 15:19:20 -0500 (Sun, 09 Feb 2025) EndedAt: 2025-02-09 15:19:24 -0500 (Sun, 09 Feb 2025) EllapsedTime: 3.1 seconds RetCode: 0 Status: OK