Package: iterativeBMA Version: 1.65.0 Command: /Library/Frameworks/R.framework/Resources/bin/R CMD INSTALL iterativeBMA StartedAt: 2025-02-04 15:30:28 -0500 (Tue, 04 Feb 2025) EndedAt: 2025-02-04 15:30:38 -0500 (Tue, 04 Feb 2025) EllapsedTime: 10.2 seconds RetCode: 0 Status: OK