Package: iterativeBMA Version: 1.65.0 Command: /home/biocbuild/bbs-3.21-bioc/R/bin/R CMD build --keep-empty-dirs --no-resave-data iterativeBMA StartedAt: 2025-02-09 17:49:06 -0500 (Sun, 09 Feb 2025) EndedAt: 2025-02-09 17:49:22 -0500 (Sun, 09 Feb 2025) EllapsedTime: 16.0 seconds RetCode: 0 Status: OK PackageFile: iterativeBMA_1.65.0.tar.gz PackageFileSize: 158.9 KiB