Package: iterativeBMA Version: 1.65.0 Command: /home/biocbuild/bbs-3.21-bioc/R/bin/R CMD check --install=check:iterativeBMA.install-out.txt --library=/home/biocbuild/bbs-3.21-bioc/R/site-library --timings iterativeBMA_1.65.0.tar.gz StartedAt: 2025-02-09 23:32:00 -0500 (Sun, 09 Feb 2025) EndedAt: 2025-02-09 23:32:51 -0500 (Sun, 09 Feb 2025) EllapsedTime: 51.0 seconds RetCode: 0 Status: OK CheckDir: iterativeBMA.Rcheck Warnings: 0