Package: iterativeBMA Version: 1.65.0 Command: /home/biocbuild/bbs-3.21-bioc/R/bin/R CMD INSTALL iterativeBMA StartedAt: 2025-02-09 15:12:32 -0500 (Sun, 09 Feb 2025) EndedAt: 2025-02-09 15:12:38 -0500 (Sun, 09 Feb 2025) EllapsedTime: 6.7 seconds RetCode: 0 Status: OK