Package: iterativeBMA Version: 1.65.0 Command: rm -rf iterativeBMA.buildbin-libdir && mkdir iterativeBMA.buildbin-libdir && E:\biocbuild\bbs-3.21-bioc\R\bin\R.exe CMD INSTALL --build --library=iterativeBMA.buildbin-libdir iterativeBMA_1.65.0.tar.gz StartedAt: 2025-02-10 08:00:16 -0500 (Mon, 10 Feb 2025) EndedAt: 2025-02-10 08:00:41 -0500 (Mon, 10 Feb 2025) EllapsedTime: 24.8 seconds RetCode: 0 Status: OK PackageFile: iterativeBMA_1.65.0.zip PackageFileSize: 220.3 KiB