Package: iterativeBMA Version: 1.65.0 Command: E:\biocbuild\bbs-3.21-bioc\R\bin\R.exe CMD INSTALL iterativeBMA StartedAt: 2025-02-09 15:54:57 -0500 (Sun, 09 Feb 2025) EndedAt: 2025-02-09 15:55:16 -0500 (Sun, 09 Feb 2025) EllapsedTime: 19.3 seconds RetCode: 0 Status: OK