Package: ivygapSE Version: 1.29.0 Command: /Library/Frameworks/R.framework/Resources/bin/R CMD build --keep-empty-dirs --no-resave-data ivygapSE StartedAt: 2025-02-09 16:44:38 -0500 (Sun, 09 Feb 2025) EndedAt: 2025-02-09 16:45:30 -0500 (Sun, 09 Feb 2025) EllapsedTime: 51.6 seconds RetCode: 0 Status: OK PackageFile: ivygapSE_1.29.0.tar.gz PackageFileSize: 15.35 MiB