Package: ivygapSE Version: 1.29.0 Command: /Library/Frameworks/R.framework/Resources/bin/R CMD INSTALL ivygapSE StartedAt: 2025-02-09 15:27:54 -0500 (Sun, 09 Feb 2025) EndedAt: 2025-02-09 15:28:04 -0500 (Sun, 09 Feb 2025) EllapsedTime: 10.3 seconds RetCode: 0 Status: OK