Package: ivygapSE Version: 1.29.0 Command: rm -rf ivygapSE.buildbin-libdir && mkdir ivygapSE.buildbin-libdir && /Users/biocbuild/BBS/utils/build-universal.sh ivygapSE_1.29.0.tar.gz /Library/Frameworks/R.framework/Resources/bin/R ivygapSE.buildbin-libdir StartedAt: 2025-02-10 00:59:32 -0500 (Mon, 10 Feb 2025) EndedAt: 2025-02-10 01:00:11 -0500 (Mon, 10 Feb 2025) EllapsedTime: 39.2 seconds RetCode: 0 Status: OK PackageFile: ivygapSE_1.29.0.tgz PackageFileSize: 15.37 MiB