Package: ivygapSE Version: 1.29.0 Command: /Library/Frameworks/R.framework/Resources/bin/R CMD build --keep-empty-dirs --no-resave-data ivygapSE StartedAt: 2025-02-12 17:10:15 -0500 (Wed, 12 Feb 2025) EndedAt: 2025-02-12 17:12:27 -0500 (Wed, 12 Feb 2025) EllapsedTime: 131.4 seconds RetCode: 0 Status: OK PackageFile: ivygapSE_1.29.0.tar.gz PackageFileSize: 15.35 MiB