Package: ivygapSE Version: 1.29.0 Command: rm -rf ivygapSE.buildbin-libdir && mkdir ivygapSE.buildbin-libdir && E:\biocbuild\bbs-3.21-bioc\R\bin\R.exe CMD INSTALL --build --library=ivygapSE.buildbin-libdir ivygapSE_1.29.0.tar.gz StartedAt: 2025-02-10 08:00:23 -0500 (Mon, 10 Feb 2025) EndedAt: 2025-02-10 08:01:00 -0500 (Mon, 10 Feb 2025) EllapsedTime: 37.7 seconds RetCode: 0 Status: OK PackageFile: ivygapSE_1.29.0.zip PackageFileSize: 15.31 MiB