Package: ivygapSE Version: 1.29.0 Command: E:\biocbuild\bbs-3.21-bioc\R\bin\R.exe CMD check --no-multiarch --install=check:ivygapSE.install-out.txt --library=E:\biocbuild\bbs-3.21-bioc\R\library --no-vignettes --timings ivygapSE_1.29.0.tar.gz StartedAt: 2025-02-13 02:29:17 -0500 (Thu, 13 Feb 2025) EndedAt: 2025-02-13 02:33:24 -0500 (Thu, 13 Feb 2025) EllapsedTime: 247.7 seconds RetCode: 0 Status: OK CheckDir: ivygapSE.Rcheck Warnings: 0