Package: kebabs Version: 1.41.0 Command: rm -rf kebabs.buildbin-libdir && mkdir kebabs.buildbin-libdir && /Users/biocbuild/BBS/utils/build-universal.sh kebabs_1.41.0.tar.gz /Library/Frameworks/R.framework/Resources/bin/R kebabs.buildbin-libdir StartedAt: 2025-02-12 22:24:05 -0500 (Wed, 12 Feb 2025) EndedAt: 2025-02-12 22:24:35 -0500 (Wed, 12 Feb 2025) EllapsedTime: 30.6 seconds RetCode: 0 Status: OK PackageFile: kebabs_1.41.0.tgz PackageFileSize: 3.662 MiB