Package: kebabs Version: 1.41.0 Command: /Library/Frameworks/R.framework/Resources/bin/R CMD check --install=check:kebabs.install-out.txt --library=/Library/Frameworks/R.framework/Resources/library --no-vignettes --timings kebabs_1.41.0.tar.gz StartedAt: 2025-02-09 19:49:21 -0500 (Sun, 09 Feb 2025) EndedAt: 2025-02-09 19:50:32 -0500 (Sun, 09 Feb 2025) EllapsedTime: 70.9 seconds RetCode: 0 Status: OK CheckDir: kebabs.Rcheck Warnings: 0