Package: kebabs Version: 1.41.0 Command: /Library/Frameworks/R.framework/Resources/bin/R CMD INSTALL kebabs StartedAt: 2025-02-09 15:04:25 -0500 (Sun, 09 Feb 2025) EndedAt: 2025-02-09 15:04:53 -0500 (Sun, 09 Feb 2025) EllapsedTime: 27.8 seconds RetCode: 0 Status: OK