Package: kebabs Version: 1.41.0 Command: /home/biocbuild/R/R/bin/R CMD build --keep-empty-dirs --no-resave-data kebabs StartedAt: 2025-01-28 23:52:04 -0000 (Tue, 28 Jan 2025) EndedAt: 2025-01-28 23:58:14 -0000 (Tue, 28 Jan 2025) EllapsedTime: 370.2 seconds RetCode: 0 Status: OK PackageFile: kebabs_1.41.0.tar.gz PackageFileSize: 2.269 MiB