Package: kebabs Version: 1.41.0 Command: /Library/Frameworks/R.framework/Resources/bin/R CMD INSTALL kebabs StartedAt: 2025-02-09 15:09:54 -0500 (Sun, 09 Feb 2025) EndedAt: 2025-02-09 15:11:47 -0500 (Sun, 09 Feb 2025) EllapsedTime: 112.4 seconds RetCode: 0 Status: OK