Package: kebabs Version: 1.41.0 Command: /home/biocbuild/bbs-3.21-bioc/R/bin/R CMD build --keep-empty-dirs --no-resave-data kebabs StartedAt: 2025-02-09 17:49:53 -0500 (Sun, 09 Feb 2025) EndedAt: 2025-02-09 17:54:09 -0500 (Sun, 09 Feb 2025) EllapsedTime: 255.4 seconds RetCode: 0 Status: OK PackageFile: kebabs_1.41.0.tar.gz PackageFileSize: 2.259 MiB