Package: kebabs Version: 1.41.0 Command: /home/biocbuild/bbs-3.21-bioc/R/bin/R CMD check --install=check:kebabs.install-out.txt --library=/home/biocbuild/bbs-3.21-bioc/R/site-library --timings kebabs_1.41.0.tar.gz StartedAt: 2025-02-09 23:33:51 -0500 (Sun, 09 Feb 2025) EndedAt: 2025-02-09 23:39:25 -0500 (Sun, 09 Feb 2025) EllapsedTime: 334.6 seconds RetCode: 0 Status: OK CheckDir: kebabs.Rcheck Warnings: 0