Package: kebabs Version: 1.41.0 Command: /home/biocbuild/bbs-3.21-bioc/R/bin/R CMD INSTALL kebabs StartedAt: 2025-02-09 15:15:05 -0500 (Sun, 09 Feb 2025) EndedAt: 2025-02-09 15:16:40 -0500 (Sun, 09 Feb 2025) EllapsedTime: 94.6 seconds RetCode: 0 Status: OK