Package: kebabs Version: 1.41.0 Command: E:\biocbuild\bbs-3.21-bioc\R\bin\R.exe CMD check --no-multiarch --install=check:kebabs.install-out.txt --library=E:\biocbuild\bbs-3.21-bioc\R\library --no-vignettes --timings kebabs_1.41.0.tar.gz StartedAt: 2025-02-13 02:29:35 -0500 (Thu, 13 Feb 2025) EndedAt: 2025-02-13 02:33:30 -0500 (Thu, 13 Feb 2025) EllapsedTime: 235.5 seconds RetCode: 0 Status: OK CheckDir: kebabs.Rcheck Warnings: 0