Package: knowYourCG Version: 1.3.15 Maintainer: Goldberg David MaintainerEmail: golddc72 at pennmedicine.upenn.edu git_url: https://git.bioconductor.org/packages/knowYourCG git_branch: devel git_last_commit: 48d831c git_last_commit_date: 2025-01-04 08:47:13 -0500 (Sat, 04 Jan 2025)