Package: knowYourCG Version: 1.3.15 Command: /Library/Frameworks/R.framework/Resources/bin/R CMD INSTALL knowYourCG StartedAt: 2025-02-09 15:09:56 -0500 (Sun, 09 Feb 2025) EndedAt: 2025-02-09 15:10:04 -0500 (Sun, 09 Feb 2025) EllapsedTime: 7.7 seconds RetCode: 0 Status: OK