Package: knowYourCG Version: 1.3.15 Command: /home/biocbuild/R/R/bin/R CMD build --keep-empty-dirs --no-resave-data knowYourCG StartedAt: 2025-01-28 23:53:12 -0000 (Tue, 28 Jan 2025) EndedAt: 2025-01-28 23:56:18 -0000 (Tue, 28 Jan 2025) EllapsedTime: 186.1 seconds RetCode: 1 Status: ERROR PackageFile: None PackageFileSize: NA