Package: knowYourCG Version: 1.3.15 Command: /Library/Frameworks/R.framework/Resources/bin/R CMD build --keep-empty-dirs --no-resave-data knowYourCG StartedAt: 2025-02-09 17:14:37 -0500 (Sun, 09 Feb 2025) EndedAt: 2025-02-09 17:17:19 -0500 (Sun, 09 Feb 2025) EllapsedTime: 162.4 seconds RetCode: 0 Status: OK PackageFile: knowYourCG_1.3.15.tar.gz PackageFileSize: 14.49 MiB