Package: knowYourCG Version: 1.3.15 Command: /home/biocbuild/bbs-3.21-bioc/R/bin/R CMD check --install=check:knowYourCG.install-out.txt --library=/home/biocbuild/bbs-3.21-bioc/R/site-library --timings knowYourCG_1.3.15.tar.gz StartedAt: 2025-02-09 23:35:37 -0500 (Sun, 09 Feb 2025) EndedAt: 2025-02-09 23:42:22 -0500 (Sun, 09 Feb 2025) EllapsedTime: 404.8 seconds RetCode: 0 Status: WARNINGS CheckDir: knowYourCG.Rcheck Warnings: 1