Package: knowYourCG Version: 1.3.15 Command: rm -rf knowYourCG.buildbin-libdir && mkdir knowYourCG.buildbin-libdir && E:\biocbuild\bbs-3.21-bioc\R\bin\R.exe CMD INSTALL --build --library=knowYourCG.buildbin-libdir knowYourCG_1.3.15.tar.gz StartedAt: 2025-02-10 08:01:23 -0500 (Mon, 10 Feb 2025) EndedAt: 2025-02-10 08:02:27 -0500 (Mon, 10 Feb 2025) EllapsedTime: 63.6 seconds RetCode: 0 Status: OK PackageFile: knowYourCG_1.3.15.zip PackageFileSize: 13.16 MiB