############################################################################## ############################################################################## ### ### Running command: ### ### E:\biocbuild\bbs-3.21-bioc\R\bin\R.exe CMD INSTALL knowYourCG ### ############################################################################## ############################################################################## * installing to library 'E:/biocbuild/bbs-3.21-bioc/R/library' * installing *source* package 'knowYourCG' ... ** this is package 'knowYourCG' version '1.3.15' ** using staged installation ** libs using C compiler: 'gcc.exe (GCC) 13.3.0' gcc -I"E:/biocbuild/bbs-3.21-bioc/R/include" -DNDEBUG -I"C:/rtools44/x86_64-w64-mingw32.static.posix/include" -O2 -Wall -mfpmath=sse -msse2 -mstackrealign -c bgzf.c -o bgzf.o gcc -I"E:/biocbuild/bbs-3.21-bioc/R/include" -DNDEBUG -I"C:/rtools44/x86_64-w64-mingw32.static.posix/include" -O2 -Wall -mfpmath=sse -msse2 -mstackrealign -c cfile.c -o cfile.o gcc -I"E:/biocbuild/bbs-3.21-bioc/R/include" -DNDEBUG -I"C:/rtools44/x86_64-w64-mingw32.static.posix/include" -O2 -Wall -mfpmath=sse -msse2 -mstackrealign -c decompress.c -o decompress.o gcc -I"E:/biocbuild/bbs-3.21-bioc/R/include" -DNDEBUG -I"C:/rtools44/x86_64-w64-mingw32.static.posix/include" -O2 -Wall -mfpmath=sse -msse2 -mstackrealign -c format.c -o format.o gcc -I"E:/biocbuild/bbs-3.21-bioc/R/include" -DNDEBUG -I"C:/rtools44/x86_64-w64-mingw32.static.posix/include" -O2 -Wall -mfpmath=sse -msse2 -mstackrealign -c format2.c -o format2.o gcc -I"E:/biocbuild/bbs-3.21-bioc/R/include" -DNDEBUG -I"C:/rtools44/x86_64-w64-mingw32.static.posix/include" -O2 -Wall -mfpmath=sse -msse2 -mstackrealign -c format3.c -o format3.o gcc -I"E:/biocbuild/bbs-3.21-bioc/R/include" -DNDEBUG -I"C:/rtools44/x86_64-w64-mingw32.static.posix/include" -O2 -Wall -mfpmath=sse -msse2 -mstackrealign -c format6.c -o format6.o gcc -I"E:/biocbuild/bbs-3.21-bioc/R/include" -DNDEBUG -I"C:/rtools44/x86_64-w64-mingw32.static.posix/include" -O2 -Wall -mfpmath=sse -msse2 -mstackrealign -c format7.c -o format7.o gcc -I"E:/biocbuild/bbs-3.21-bioc/R/include" -DNDEBUG -I"C:/rtools44/x86_64-w64-mingw32.static.posix/include" -O2 -Wall -mfpmath=sse -msse2 -mstackrealign -c index.c -o index.o gcc -I"E:/biocbuild/bbs-3.21-bioc/R/include" -DNDEBUG -I"C:/rtools44/x86_64-w64-mingw32.static.posix/include" -O2 -Wall -mfpmath=sse -msse2 -mstackrealign -c init.c -o init.o gcc -I"E:/biocbuild/bbs-3.21-bioc/R/include" -DNDEBUG -I"C:/rtools44/x86_64-w64-mingw32.static.posix/include" -O2 -Wall -mfpmath=sse -msse2 -mstackrealign -c kstring.c -o kstring.o gcc -I"E:/biocbuild/bbs-3.21-bioc/R/include" -DNDEBUG -I"C:/rtools44/x86_64-w64-mingw32.static.posix/include" -O2 -Wall -mfpmath=sse -msse2 -mstackrealign -c summary.c -o summary.o gcc -shared -s -static-libgcc -o knowYourCG.dll tmp.def bgzf.o cfile.o decompress.o format.o format2.o format3.o format6.o format7.o index.o init.o kstring.o summary.o -lncurses -lz -lm -LC:/rtools44/x86_64-w64-mingw32.static.posix/lib/x64 -LC:/rtools44/x86_64-w64-mingw32.static.posix/lib -LE:/biocbuild/bbs-3.21-bioc/R/bin/x64 -lR installing to E:/biocbuild/bbs-3.21-bioc/R/library/00LOCK-knowYourCG/00new/knowYourCG/libs/x64 ** R ** inst ** byte-compile and prepare package for lazy loading ** help *** installing help indices ** building package indices ** installing vignettes ** testing if installed package can be loaded from temporary location ** testing if installed package can be loaded from final location ** testing if installed package keeps a record of temporary installation path * DONE (knowYourCG)