Package: koinar Version: 1.1.2 Maintainer: Ludwig Lautenbacher MaintainerEmail: ludwig.lautenbacher at tum.de git_url: https://git.bioconductor.org/packages/koinar git_branch: devel git_last_commit: ff3e895 git_last_commit_date: 2025-01-09 08:36:20 -0500 (Thu, 09 Jan 2025)