Package: koinar Version: 1.1.2 Command: /home/biocbuild/R/R/bin/R CMD check --install=check:koinar.install-out.txt --library=/home/biocbuild/R/R/site-library --no-vignettes --timings koinar_1.1.2.tar.gz StartedAt: 2025-01-28 11:53:22 -0000 (Tue, 28 Jan 2025) EndedAt: 2025-01-28 11:53:51 -0000 (Tue, 28 Jan 2025) EllapsedTime: 29.0 seconds RetCode: 0 Status: OK CheckDir: koinar.Rcheck Warnings: 0