Package: koinar Version: 1.1.2 Command: /Library/Frameworks/R.framework/Resources/bin/R CMD check --install=check:koinar.install-out.txt --library=/Library/Frameworks/R.framework/Resources/library --no-vignettes --timings koinar_1.1.2.tar.gz StartedAt: 2025-02-09 21:32:40 -0500 (Sun, 09 Feb 2025) EndedAt: 2025-02-09 21:33:24 -0500 (Sun, 09 Feb 2025) EllapsedTime: 43.6 seconds RetCode: 0 Status: OK CheckDir: koinar.Rcheck Warnings: 0