Package: koinar Version: 1.1.2 Command: /home/biocbuild/bbs-3.21-bioc/R/bin/R CMD INSTALL koinar StartedAt: 2025-02-09 15:04:32 -0500 (Sun, 09 Feb 2025) EndedAt: 2025-02-09 15:04:47 -0500 (Sun, 09 Feb 2025) EllapsedTime: 15.1 seconds RetCode: 0 Status: OK